BEGIN:VCALENDAR
VERSION:2.0
PRODID:-//212.227.247.135//NONSGML kigkonsult.se iCalcreator 2.12//
CALSCALE:GREGORIAN
METHOD:PUBLISH
X-WR-CALNAME:FC Käerch
X-WR-CALDESC:Déckebierg\, huel se!
X-WR-TIMEZONE:Europe/Luxembourg
BEGIN:VTIMEZONE
TZID:Europe/Luxembourg
X-LIC-LOCATION:Europe/Luxembourg
BEGIN:STANDARD
DTSTART:20181028T030000
TZOFFSETFROM:+0200
TZOFFSETTO:+0100
TZNAME:CET
END:STANDARD
BEGIN:DAYLIGHT
DTSTART:20180325T020000
TZOFFSETFROM:+0100
TZOFFSETTO:+0200
TZNAME:CEST
END:DAYLIGHT
END:VTIMEZONE
BEGIN:VEVENT
UID:http://www.fckaerch.lu/?post_type=ai1ec_event&#038;p=834&#038;instance_
 id=
DTSTAMP:20171221T152408Z
CONTACT:
DESCRIPTION:
DTSTART;TZID=Europe/Luxembourg:20130414T093000
DTEND;TZID=Europe/Luxembourg:20130414T104500
LOCATION:Rue de la Montagne\, Koerich\, Luxembourg
SUMMARY:ENTENTE AISCHDALL SKS 06 – CESSANGE-BRACARENSES F.C. 01
URL:http://www.fckaerch.lu/ai1ec_event/entente-aischdall-sks-06-cessange-br
 acarenses-f-c-01/?instance_id=
END:VEVENT
END:VCALENDAR
