BEGIN:VCALENDAR
VERSION:2.0
PRODID:-//212.227.247.135//NONSGML kigkonsult.se iCalcreator 2.12//
CALSCALE:GREGORIAN
METHOD:PUBLISH
X-WR-CALNAME:FC Käerch
X-WR-CALDESC:Déckebierg\, huel se!
X-WR-TIMEZONE:Europe/Luxembourg
BEGIN:VTIMEZONE
TZID:Europe/Luxembourg
X-LIC-LOCATION:Europe/Luxembourg
BEGIN:STANDARD
DTSTART:20181028T030000
TZOFFSETFROM:+0200
TZOFFSETTO:+0100
TZNAME:CET
END:STANDARD
BEGIN:DAYLIGHT
DTSTART:20180325T020000
TZOFFSETFROM:+0100
TZOFFSETTO:+0200
TZNAME:CEST
END:DAYLIGHT
END:VTIMEZONE
BEGIN:VEVENT
UID:http://www.fckaerch.lu/?post_type=ai1ec_event&#038;p=1184&#038;instance
 _id=
DTSTAMP:20171221T152013Z
CONTACT:
DESCRIPTION:<p align='center'><strong><span style='text-decoration: underli
 ne\;'>Invitation à l’assemblée générale ordinaire du F.C. Käerch/Simmer</s
 pan></strong></p>\n<p> </p>\n<p>Le comité du F.C. Käerch/Simmer a l’honneu
 r d’inviter tous ses membres actifs\, honoraires et intéressés à assister 
 à l’assemblée générale ordinaire qui aura lieu le:</p>\n<p> </p>\n<p align
 ='center'><strong><span style='text-decoration: underline\;'>Mercredi\, le
  19 juin 2013 à 19h30</span></strong> dans la buvette auprès du terrain de
  football à Koerich.</p>\n<p> </p>\n<p><span style='text-decoration: under
 line\;'>Ordre du jour:</span></p>\n<p>1)    Mot de bienvenue du président<
 /p>\n<p>2)    Bilan d’activités du secrétaire</p>\n<p>3)    Bilan du tréso
 rier</p>\n<p>4)    Rapport des réviseurs de caisse</p>\n<p>5)    Bilan spo
 rtif de l’entraîneur</p>\n<p>6)    Bilan d’activités du secrétaire de la C
 ommission des Jeunes</p>\n<p>7)    Bilan du trésorier de la Commission des
  Jeunes</p>\n<p>8)    Rapport des réviseurs de caisse</p>\n<p>9)    Electi
 ons pour le comité</p>\n<p>10) Divers</p>\n<p>11) Libre discussion</p>\n<p
 > </p>\n<p>Les candidatures écrites pour les élections au comité sont à ad
 resser au comité du F.C. Käerch/Simmer (par écrit au F. C. Käerch/Simmer B
 . P. 29 L-8306 KOERICH ou par voie orale soit avant l’assemblée générale o
 u lors des élections au comité)</p>\n<p> </p>\n<p>Le comité du F.C. Käerch
 /Simmer</p>
DTSTART;TZID=Europe/Luxembourg:20130619T193000
DTEND;TZID=Europe/Luxembourg:20130619T210000
LOCATION:Rue de la Montagne\, Koerich\, Luxembourg
SUMMARY:Assemblée Générale 2013
URL:http://www.fckaerch.lu/ai1ec_event/assemblee-generale-2013/?instance_id
 =
END:VEVENT
END:VCALENDAR
